BEGIN:VCALENDAR
VERSION:2.0
PRODID:-//Department Of Education//1898ce4e-cce2-4f2d-863a-0c27a3896248
BEGIN:VTIMEZONE
TZID:Australia/Sydney
TZURL:http://tzurl.org/zoneinfo-outlook/Australia/Sydney
X-LIC-LOCATION:Australia/Sydney
BEGIN:STANDARD
TZOFFSETFROM:+1100
TZOFFSETTO:+1000
TZNAME:AEST
DTSTART:19700405T030000
RRULE:FREQ=YEARLY;BYMONTH=4;BYDAY=1SU
END:STANDARD
BEGIN:DAYLIGHT
TZOFFSETFROM:+1000
TZOFFSETTO:+1100
TZNAME:AEDT
DTSTART:19701004T020000
RRULE:FREQ=YEARLY;BYMONTH=10;BYDAY=1SU
END:DAYLIGHT
END:VTIMEZONE
CALSCALE:GREGORIAN
X-WR-TIMEZONE:Australia/Sydney
BEGIN:VEVENT
DTSTART;VALUE=DATE:20200302
DTEND;VALUE=DATE:20200303
DTSTAMP:20200302T000000Z
UID:a5423b5b-0cda-461c-945f-8f8987e18b5c
LOCATION:Venue
SUMMARY;LANGUAGE=en-us:School Leaders Convention
SEQUENCE:0
DESCRIPTION:School Leaders Convention
END:VEVENT
TRANSP:TRANSPARENT
END:VCALENDAR
