BEGIN:VCALENDAR
VERSION:2.0
PRODID:-//Department Of Education//4ce61bf5-38f1-4239-b473-12d33e7d3d07
BEGIN:VTIMEZONE
TZID:Australia/Sydney
TZURL:http://tzurl.org/zoneinfo-outlook/Australia/Sydney
X-LIC-LOCATION:Australia/Sydney
BEGIN:STANDARD
TZOFFSETFROM:+1100
TZOFFSETTO:+1000
TZNAME:AEST
DTSTART:19700405T030000
RRULE:FREQ=YEARLY;BYMONTH=4;BYDAY=1SU
END:STANDARD
BEGIN:DAYLIGHT
TZOFFSETFROM:+1000
TZOFFSETTO:+1100
TZNAME:AEDT
DTSTART:19701004T020000
RRULE:FREQ=YEARLY;BYMONTH=10;BYDAY=1SU
END:DAYLIGHT
END:VTIMEZONE
CALSCALE:GREGORIAN
X-WR-TIMEZONE:Australia/Sydney
BEGIN:VEVENT
DTSTART;VALUE=DATE:20200314
DTEND;VALUE=DATE:20200315
DTSTAMP:20200314T000000Z
UID:19cf6eeb-98a2-4803-8ed4-6b8b1cf22820
LOCATION:School
SUMMARY;LANGUAGE=en-us:Selective High School test
SEQUENCE:0
DESCRIPTION:Selective High School test for students in Year 6 who have applied
END:VEVENT
TRANSP:TRANSPARENT
END:VCALENDAR
